BEGIN:VCALENDAR
VERSION:2.0
PRODID: -//CMS 5.0 //NONSGML //DE
BEGIN:VEVENT
SUMMARY:Konfirmandenunterricht
DESCRIPTION:Die Konfirmanden treffen sich in der Gemeinde Halle (Saale) 
 zu ihrem Unterricht.\n\n\n\nhttps://halle-saale.nak-nordost.de/db/59746
 2
UID:597462@halle-saale.nak-nordost.de
LOCATION:
CATEGORIES:
X-ORGANIZER:
STATUS:CONFIRMED
CLASS:PUBLIC
DTSTART:20260425T073000Z
DTEND:20260425T073000Z
DTSTAMP:20260421T161713Z
CREATED:20260331T133513Z
LAST-MODIFIED:20260331T135007Z
BEGIN:VALARM
UID:8EBD3D26-3D9D-11F1-96A8-2EDF5B29324C
TRIGGER:-PT60M
ACTION:DISPLAY
DESCRIPTION:SUMMARY:Konfirmandenunterricht
END:VALARM
END:VEVENT
END:VCALENDAR
