BEGIN:VCALENDAR
VERSION:2.0
PRODID: -//CMS 5.0 //NONSGML //DE
BEGIN:VEVENT
SUMMARY:kein Präsenz-Gottesdienst
DESCRIPTION:Die Gottesdienstübertragung aus der Gemeinde Taucha kann zu
  Hause per Telefon oder IPTV empfangen werden.\n\n\n\nhttps://halle-saa
 le.nak-nordost.de/db/594451
UID:594451@halle-saale.nak-nordost.de
LOCATION:
CATEGORIES:Gottesdienst
X-ORGANIZER:
STATUS:CONFIRMED
CLASS:PUBLIC
DTSTART:20260429T173000Z
DTEND:20260429T183000Z
DTSTAMP:20260421T161648Z
CREATED:20260315T180209Z
LAST-MODIFIED:20260331T130354Z
BEGIN:VALARM
UID:7F8F9BE6-3D9D-11F1-86A2-895D5C29324C
TRIGGER:-PT60M
ACTION:DISPLAY
DESCRIPTION:SUMMARY:kein Präsenz-Gottesdienst
END:VALARM
END:VEVENT
END:VCALENDAR
